BEGIN:VCALENDAR
VERSION:2.0
PRODID:-//wp-events-plugin.com//7.2.2.1//EN
BEGIN:VEVENT
UID:124@mietergewerkschaft.de
DTSTART;TZID=Europe/Berlin:20260224T193000
DTEND;TZID=Europe/Berlin:20260224T210000
DTSTAMP:20260212T063849Z
URL:https://mietergewerkschaft.de/events/mieterstammtisch-berliner-viertel
SUMMARY:Mieterstammtisch Berliner Viertel
DESCRIPTION:Was? Stammtisch Berliner Viertel\nWer? Mietergemeinschaft Berli
 ner Viertel\nWo? in Planung\, weitere Informationen unter berlinerviertel@
 mietergewerkschaft.de
CATEGORIES:München
LOCATION:Restaurant Estare\,  Echinger Str. 1\, München\, Deutschland
X-APPLE-STRUCTURED-LOCATION;VALUE=URI;X-ADDRESS= Echinger Str. 1\, München
 \, Deutschland;X-APPLE-RADIUS=100;X-TITLE=Restaurant Estare:geo:0,0
END:VEVENT
BEGIN:VTIMEZONE
TZID:Europe/Berlin
X-LIC-LOCATION:Europe/Berlin
BEGIN:STANDARD
DTSTART:20251026T020000
TZOFFSETFROM:+0200
TZOFFSETTO:+0100
TZNAME:CET
END:STANDARD
END:VTIMEZONE
END:VCALENDAR